BEGIN:VCALENDAR
VERSION:2.0
PRODID:-//Vital Chinatown - ECPv6.15.20//NONSGML v1.0//EN
CALSCALE:GREGORIAN
METHOD:PUBLISH
X-WR-CALNAME:Vital Chinatown
X-ORIGINAL-URL:https://vitalchinatown.com
X-WR-CALDESC:Events for Vital Chinatown
REFRESH-INTERVAL;VALUE=DURATION:PT1H
X-Robots-Tag:noindex
X-PUBLISHED-TTL:PT1H
BEGIN:VTIMEZONE
TZID:America/Chicago
BEGIN:DAYLIGHT
TZOFFSETFROM:-0600
TZOFFSETTO:-0500
TZNAME:CDT
DTSTART:20240310T080000
END:DAYLIGHT
BEGIN:STANDARD
TZOFFSETFROM:-0500
TZOFFSETTO:-0600
TZNAME:CST
DTSTART:20241103T070000
END:STANDARD
BEGIN:DAYLIGHT
TZOFFSETFROM:-0600
TZOFFSETTO:-0500
TZNAME:CDT
DTSTART:20250309T080000
END:DAYLIGHT
BEGIN:STANDARD
TZOFFSETFROM:-0500
TZOFFSETTO:-0600
TZNAME:CST
DTSTART:20251102T070000
END:STANDARD
BEGIN:DAYLIGHT
TZOFFSETFROM:-0600
TZOFFSETTO:-0500
TZNAME:CDT
DTSTART:20260308T080000
END:DAYLIGHT
BEGIN:STANDARD
TZOFFSETFROM:-0500
TZOFFSETTO:-0600
TZNAME:CST
DTSTART:20261101T070000
END:STANDARD
END:VTIMEZONE
BEGIN:VEVENT
DTSTART;TZID=America/Chicago:20250719T120000
DTEND;TZID=America/Chicago:20250719T190000
DTSTAMP:20260421T135336
CREATED:20260416T025142Z
LAST-MODIFIED:20260416T025938Z
UID:748-1752926400-1752951600@vitalchinatown.com
SUMMARY:THE CVGE: BATTLE OF THE ZODIAC GARDEN
DESCRIPTION:we’re bringing you 2 of the DOPEST Footwork DJ’s that’s coming straight from the south side & south suburb of Chicago!! This will be a full Chicago Footwork Competition experience from the heart of the city! DJ Acey (More Bass) x DJ Jalen (Teklife) will keep you dancing during this day event! Bring your homies & your dancing shoes!! \nBATTLE OF THE ZODIAC GARDEN: \n\nYou must create a 2 person team in able to compete which consist of 1 Footworker & 1 Other (whichever style that you claim)\n16 Spots for entry\n$300 Cash Prize\n$15 per Person via Link & @Door\nAll Ages Cypher will also be held
URL:https://vitalchinatown.com/event/the-cvge-battle-of-the-zodiac-garden/
LOCATION:Vital Chinatown\, 235 W Cermak Rd\, Chicago\, IL\, 60616\, United States
CATEGORIES:Dance
ATTACH;FMTTYPE=image/webp:https://vitalchinatown.com/wp-content/uploads/2026/04/43c696e2d8d013fee49baafc06e477049834377e.webp
ORGANIZER;CN="Vital Chinatown":MAILTO:czar@vitalchinatown.org
END:VEVENT
BEGIN:VEVENT
DTSTART;VALUE=DATE:20250223
DTEND;VALUE=DATE:20250224
DTSTAMP:20260421T135336
CREATED:20260416T030806Z
LAST-MODIFIED:20260416T030806Z
UID:756-1740268800-1740355199@vitalchinatown.com
SUMMARY:Fashion Soul Train
DESCRIPTION:The “Fashion Soul Train” is a Chicago-based event celebrating fashion\, music\, and community\, with a recent installment occurring on February 23\, 2025. \nIt brings together street fashion\, local culture\, and music\, encouraging attendees to showcase their best looks in a vibrant\, community-centered atmosphere. \nHosted in collaboration with A.M. Kollabz
URL:https://vitalchinatown.com/event/fashion-soul-train/
LOCATION:Vital Chinatown\, 235 W Cermak Rd\, Chicago\, IL\, 60616\, United States
CATEGORIES:Fashion
ATTACH;FMTTYPE=image/png:https://vitalchinatown.com/wp-content/uploads/2026/04/Vital-Chinatown-x-a.m.-kollabz-Your-Story.png
ORGANIZER;CN="Vital Chinatown":MAILTO:czar@vitalchinatown.org
END:VEVENT
END:VCALENDAR